BEGIN:VCALENDAR
VERSION:2.0
BEGIN:VEVENT
DTSTART;VALUE=DATE:20260523
SUMMARY:Rock's Cool - Concert de fin d'année
END:VEVENT
BEGIN:VEVENT
DTSTART;VALUE=DATE:20260524
SUMMARY:Rock's Cool - Concert de fin d'année
END:VEVENT
END:VCALENDAR
